BEGIN:VCALENDAR
VERSION:2.0
PRODID:-//ChamberMaster//Event Calendar 2.0//EN
METHOD:PUBLISH
X-PUBLISHED-TTL:P3D
REFRESH-INTERVAL:P3D
CALSCALE:GREGORIAN
BEGIN:VEVENT
DTSTART:20090928T170000Z
DTEND:20090929T000000Z
X-MICROSOFT-CDO-ALLDAYEVENT:FALSE
SUMMARY:Assistance League of Salem Cooks Tour
DESCRIPTION:Assistance League of Salem Cooks Tour will feature eleven homes in historic Fairmount Hill on September 28th from 10:00 am to 5:00 pm Meet local chefs who prepare complimentary tastings of their specialties\, view floral arrangements created by Salem-Keizer florists and purchase unique gift items at buyer-friendly prices. Tickets purchased in advance are $25 or $30 on the day of the tour. $20 of your ticket price is tax deductible. Tickets are available at Assistance League Gift Shop\, Encore Furniture\, Salem-Keizer Roth's\, Medical Center Eye Clinic and AbsolutelyTix.com For more information visit our website at www.assistanceleaguesalem.org or call (503) 364-8318
X-ALT-DESC;FMTTYPE=text/html:<div>Assistance League of Salem Cooks Tour will feature eleven homes in historic Fairmount Hill on September 28th from 10:00 am to 5:00 pm</div><div>&nbsp\;</div><div>Meet local chefs who prepare complimentary tastings of their specialties\, view floral arrangements created by Salem-Keizer florists and purchase unique gift items at buyer-friendly prices. Tickets purchased in advance are $25 or&nbsp\;$30 on the day of the tour. $20 of your ticket price is tax deductible.</div><div>&nbsp\;</div><div>Tickets are available at Assistance League Gift Shop\, Encore Furniture\, Salem-Keizer Roth's\, Medical Center Eye Clinic and AbsolutelyTix.com</div><div>&nbsp\;</div><div>For more information visit our website at <a href="http://www.assistanceleaguesalem.org">www.assistanceleaguesalem.org</a> or call (503) 364-8318</div>
LOCATION:Fairmount Hill
UID:e.63.2257
SEQUENCE:3
DTSTAMP:20260422T025745Z
URL:http://www.cm.keizerchamber.com/events/details/assistance-league-of-salem-cooks-tour-09-28-2009-2257
END:VEVENT

END:VCALENDAR
