BEGIN:VCALENDAR
VERSION:2.0
PRODID:-//ChamberMaster//Event Calendar 2.0//EN
METHOD:PUBLISH
X-PUBLISHED-TTL:P3D
REFRESH-INTERVAL:P3D
CALSCALE:GREGORIAN
BEGIN:VEVENT
DTSTART;VALUE=DATE:20090912
DTEND;VALUE=DATE:20090913
TRANSP:TRANSPARENT
X-MICROSOFT-CDO-ALLDAYEVENT:TRUE
SUMMARY:Band Day 2009
DESCRIPTION:Annual Band Day for McNary Band.  Band Students will be out in Keizer neighborhoods collecting cans and bottles\, and cash donations.  Bottles\, cans and cash donations may also be dropped off at Roth's and Alberstson's parking lots.
X-ALT-DESC;FMTTYPE=text/html:Annual Band Day for McNary Band.  Band Students will be out in Keizer neighborhoods collecting cans and bottles\, and cash donations.  Bottles\, cans and cash donations may also be dropped off at Roth's and Alberstson's parking lots.
LOCATION:
UID:e.63.2264
SEQUENCE:3
DTSTAMP:20260422T025531Z
URL:http://www.cm.keizerchamber.com/events/details/band-day-2009-09-12-2009-2264
END:VEVENT

END:VCALENDAR
