BEGIN:VCALENDAR
VERSION:2.0
PRODID:-//ChamberMaster//Event Calendar 2.0//EN
METHOD:PUBLISH
X-PUBLISHED-TTL:P3D
REFRESH-INTERVAL:P3D
CALSCALE:GREGORIAN
BEGIN:VEVENT
DTSTART:20070829T010000Z
DTEND:20070829T020000Z
X-MICROSOFT-CDO-ALLDAYEVENT:FALSE
SUMMARY:BEYOND INVESTMENT ILLUSIONS - HOSTED BY EDWARD JONES
DESCRIPTION:Is the market taking advantage of your natural reactions? Learning from the mistakes that other investors have made by following their natural reaction will help you see "Beyond Investment Illusions." At this seminar\, we'll discuss ways to be less focused on short-term movements of the market and more consistent in your investment strategy. Featured guest speaker Joe McIntyre\, representing The Hartford's Investment Products. Hosted by Sheryl Resner of Edward Jones.
X-ALT-DESC;FMTTYPE=text/html:Is the market taking advantage of your natural reactions? Learning from the mistakes that other investors have made by following their natural reaction will help you see "Beyond Investment Illusions." At this seminar\, we'll discuss ways to be less focused on short-term movements of the market and more consistent in your investment strategy. Featured guest speaker Joe McIntyre\, representing The Hartford's Investment Products. Hosted by Sheryl Resner of Edward Jones.
LOCATION:Mi Na's Restaurant at Mc Nary Golf Course. 165 Mc Nary Estates Drive N.\, Keizer
UID:e.63.1290
SEQUENCE:3
DTSTAMP:20260423T160532Z
URL:http://www.cm.keizerchamber.com/events/details/beyond-investment-illusions-hosted-by-edward-jones-08-28-2007-1290
END:VEVENT

END:VCALENDAR
