BEGIN:VCALENDAR
VERSION:2.0
PRODID:-//ChamberMaster//Event Calendar 2.0//EN
METHOD:PUBLISH
X-PUBLISHED-TTL:P3D
REFRESH-INTERVAL:P3D
CALSCALE:GREGORIAN
BEGIN:VEVENT
DTSTART:20090530T020000Z
DTEND:20090530T210000Z
X-MICROSOFT-CDO-ALLDAYEVENT:FALSE
SUMMARY:Blanchet Catholic Mid High Presents Disney's ''Aladdin Jr.''
DESCRIPTION:
X-ALT-DESC;FMTTYPE=text/html:
LOCATION:Blanchet's Wiegand Arts Center 4373 Market St. NE Salem\, OR 97301
UID:e.63.1938
SEQUENCE:3
DTSTAMP:20260422T091011Z
URL:http://www.cm.keizerchamber.com/events/details/blanchet-catholic-mid-high-presents-disney-s-aladdin-jr-05-29-2009-1938
END:VEVENT

END:VCALENDAR
