BEGIN:VCALENDAR
VERSION:2.0
PRODID:-//ChamberMaster//Event Calendar 2.0//EN
METHOD:PUBLISH
X-PUBLISHED-TTL:P3D
REFRESH-INTERVAL:P3D
CALSCALE:GREGORIAN
BEGIN:VEVENT
DTSTART:20090125T220000Z
DTEND:20090126T000000Z
X-MICROSOFT-CDO-ALLDAYEVENT:FALSE
SUMMARY:Blanchet Catholic School Preview Day
DESCRIPTION:Learn about our excellent college prep curriculum\, meet teachers and administrators\, tour the school and win prizes! Families of all faiths welcome. Tuition assistance is available.\n\n (503) 485-4491  cathy@blanchetcatholicschool.com\nwww.blanchetcatholicschool.com
X-ALT-DESC;FMTTYPE=text/html:Learn about our excellent college prep curriculum\, meet teachers and administrators\, tour the school and win prizes! Families of all faiths welcome. Tuition assistance is available.\n\n (503) 485-4491  cathy@blanchetcatholicschool.com\nwww.blanchetcatholicschool.com\n
LOCATION:Blancet Catholic School 4373 Market St. NE Salem\, OR 97301
UID:e.63.1913
SEQUENCE:3
DTSTAMP:20260422T153540Z
URL:http://www.cm.keizerchamber.com/events/details/blanchet-catholic-school-preview-day-01-25-2009-1913
END:VEVENT

END:VCALENDAR
