BEGIN:VCALENDAR
VERSION:2.0
PRODID:-//ChamberMaster//Event Calendar 2.0//EN
METHOD:PUBLISH
X-PUBLISHED-TTL:P3D
REFRESH-INTERVAL:P3D
CALSCALE:GREGORIAN
BEGIN:VEVENT
DTSTART:20080127T220000Z
DTEND:20080128T000000Z
X-MICROSOFT-CDO-ALLDAYEVENT:FALSE
SUMMARY:Blanchet Catholic School Preview Day
DESCRIPTION:Blanchet Catholic School Preview Day - Updated information - corrected date and time
X-ALT-DESC;FMTTYPE=text/html:Blanchet Catholic School Preview Day - Updated information - corrected date and time
LOCATION:Blanchet Catholic School 4373 Market St. NE
UID:e.63.1696
SEQUENCE:3
DTSTAMP:20260423T092731Z
URL:http://www.cm.keizerchamber.com/events/details/blanchet-catholic-school-preview-day-01-27-2008-1696
END:VEVENT

END:VCALENDAR
