BEGIN:VCALENDAR
VERSION:2.0
PRODID:-//ChamberMaster//Event Calendar 2.0//EN
METHOD:PUBLISH
X-PUBLISHED-TTL:P3D
REFRESH-INTERVAL:P3D
CALSCALE:GREGORIAN
BEGIN:VEVENT
DTSTART:20091011T000000Z
DTEND:20091011T040000Z
X-MICROSOFT-CDO-ALLDAYEVENT:FALSE
SUMMARY:Blanchet's 15 & Feelin' Groovy - 13th Annual Auction
DESCRIPTION:Mark your calendars for Blanchet Catholic School?s 13th annual auction scheduled for Saturday\, October 10. The auction is the school's largest fundraiser which annually raises over $120\,000 for students and programs. This year the auction will commemorate the school's 15th anniversary and we will celebrate in a fun 1960's theme. This is a party you definitely don't want to miss! We will be featuring an entirely new set-up for the silent and oral auctions\, live entertainment\, and many special surprises! Doors open a 5:00 p.m. Many sponsorship and advertising opportunities are available. Find more information at www.blanchetcatholicschool.com.
X-ALT-DESC;FMTTYPE=text/html:Mark your calendars for Blanchet Catholic School?s 13th annual auction scheduled for Saturday\, October 10. The auction is the school's largest fundraiser which annually raises over $120\,000 for students and programs. This year the auction will commemorate the school's 15th anniversary and we will celebrate in a fun 1960's theme. This is a party you definitely don't want to miss! We will be featuring an entirely new set-up for the silent and oral auctions\, live entertainment\, and many special surprises! Doors open a 5:00 p.m. Many sponsorship and advertising opportunities are available. Find more information at www.blanchetcatholicschool.com.
LOCATION:Blanchet Catholic School 4373 Market St. NE\, Salem
UID:e.63.2240
SEQUENCE:3
DTSTAMP:20260422T012945Z
URL:http://www.cm.keizerchamber.com/events/details/blanchet-s-15-feelin-groovy-13th-annual-auction-10-10-2009-2240
END:VEVENT

END:VCALENDAR
