BEGIN:VCALENDAR
VERSION:2.0
PRODID:-//ChamberMaster//Event Calendar 2.0//EN
METHOD:PUBLISH
X-PUBLISHED-TTL:P3D
REFRESH-INTERVAL:P3D
CALSCALE:GREGORIAN
BEGIN:VEVENT
DTSTART:20090831T190000Z
DTEND:20090901T030000Z
X-MICROSOFT-CDO-ALLDAYEVENT:FALSE
SUMMARY:Blanchet's Cavalier Classic Golf Tournament
DESCRIPTION:Enjoy a day of golf in support of Blanchet athletics! Join other Cavalier supporters for great golf\, lunch\, tee and raffle prizes\, BBQ dinner and awards ceremony. The Cavalier Classic will take place at Creekside Golf Course on Monday\, August 31 beginning at 12:00 p.m. Cost is $150 per player. Register online at www.blanchetcatholicschool.com. All proceeds benefit over 200 Blanchet student-athletes participating in 18 OSAA Class 2A programs. Thank you to our generous sponsor\, Mountain West Investment Corporation.
X-ALT-DESC;FMTTYPE=text/html:Enjoy a day of golf in support of Blanchet athletics! Join other Cavalier supporters for great golf\, lunch\, tee and raffle prizes\, BBQ dinner and awards ceremony. The Cavalier Classic will take place at Creekside Golf Course on Monday\, August 31 beginning at 12:00 p.m. Cost is $150 per player. Register online at www.blanchetcatholicschool.com. All proceeds benefit over 200 Blanchet student-athletes participating in 18 OSAA Class 2A programs. Thank you to our generous sponsor\, Mountain West Investment Corporation.
LOCATION:Creekside Golf Course 6250 Club House Dr SE\, Salem
UID:e.63.2241
SEQUENCE:3
DTSTAMP:20260422T041904Z
URL:http://www.cm.keizerchamber.com/events/details/blanchet-s-cavalier-classic-golf-tournament-08-31-2009-2241
END:VEVENT

END:VCALENDAR
