BEGIN:VCALENDAR
VERSION:2.0
PRODID:-//ChamberMaster//Event Calendar 2.0//EN
METHOD:PUBLISH
X-PUBLISHED-TTL:P3D
REFRESH-INTERVAL:P3D
CALSCALE:GREGORIAN
BEGIN:VEVENT
DTSTART:20090417T233000Z
DTEND:20090418T020000Z
X-MICROSOFT-CDO-ALLDAYEVENT:FALSE
SUMMARY:Business After Hours
DESCRIPTION:Join us at Keizer Rapids Park for Business After Hours. Refreshments provided by Clint Holland of Paulson Investments. Enjoy pleasant music in a beautiful setting at the new amphitheatre from 5:00pm - 7:00 pm Contact the Chamber for more information at 503-393-9111
X-ALT-DESC;FMTTYPE=text/html:<div><font face="Comic Sans MS" size="3">Join us at Keizer Rapids Park for Business After Hours.</font></div><div>&nbsp\;</div><div><font face="Comic Sans MS" size="2">Refreshments provided by Clint Holland of Paulson Investments. Enjoy pleasant music in a beautiful setting at the new amphitheatre from 5:00pm - 7:00 pm</font></div><div><font face="Comic Sans MS" size="2">&nbsp\;</font></div><div><font face="Comic Sans MS" size="2">Contact the Chamber for more information at 503-393-9111</font></div>
LOCATION:Keizer Rapids Park(end of Chemawa)
UID:e.63.1951
SEQUENCE:3
DTSTAMP:20260422T110106Z
URL:http://www.cm.keizerchamber.com/events/details/business-after-hours-04-17-2009-1951
END:VEVENT

END:VCALENDAR
