BEGIN:VCALENDAR
VERSION:2.0
PRODID:-//ChamberMaster//Event Calendar 2.0//EN
METHOD:PUBLISH
X-PUBLISHED-TTL:P3D
REFRESH-INTERVAL:P3D
CALSCALE:GREGORIAN
BEGIN:VEVENT
DTSTART:20091212T013000Z
DTEND:20091212T030000Z
X-MICROSOFT-CDO-ALLDAYEVENT:FALSE
SUMMARY:Business After Hours - Keizer Florist & Boucher Jewelers
DESCRIPTION:Business After Hours hosted by Keizer Florist & Boucher Jewelers. After Hours is a great opportunity to meet with other Keizer Chamber members and guests for an evening of socializing and networking. \n\nStop in at Keizer Florist by 5:30pm\, then make your way to Boucher Jewelers for some last minute holiday gifts at 6:00pm. Enjoy networking and some of Boucher Jewelers famous eggnog. Door prizes will be given away and Tessa Moore\, LMT will be on site at Bouchers offering free chair massages. You won't want to miss out on all the fun! We hope to see you there!
X-ALT-DESC;FMTTYPE=text/html:<div>Business After Hours hosted by Keizer Florist &amp\; Boucher Jewelers.</div><div>&nbsp\;</div><div>After Hours is a great opportunity to meet with other Keizer Chamber members and guests for an evening of socializing and networking.&nbsp\;<br /><br />Stop in at Keizer Florist by 5:30pm\, then make your way to Boucher Jewelers for some last minute holiday gifts at 6:00pm. Enjoy networking&nbsp\;and some of&nbsp\;Boucher Jewelers&nbsp\;famous eggnog. Door prizes will be given away and Tessa Moore\, LMT will be on site at Bouchers offering free chair massages.</div><div>&nbsp\;</div><div>You&nbsp\;won't want to miss out on all the fun! We hope to see you there!</div><div>&nbsp\;</div><div>&nbsp\;</div>
LOCATION:Keizer Florist: 631 Chemawa RdBoucher Jewelers: 4965 River Rd NKeizer Oregon
UID:e.63.2283
SEQUENCE:3
DTSTAMP:20260421T223038Z
URL:http://www.cm.keizerchamber.com/events/details/business-after-hours-keizer-florist-boucher-jewelers-12-11-2009-2283
END:VEVENT

END:VCALENDAR
