BEGIN:VCALENDAR
VERSION:2.0
PRODID:-//ChamberMaster//Event Calendar 2.0//EN
METHOD:PUBLISH
X-PUBLISHED-TTL:P3D
REFRESH-INTERVAL:P3D
CALSCALE:GREGORIAN
BEGIN:VEVENT
DTSTART;VALUE=DATE:20090828
DTEND;VALUE=DATE:20090829
TRANSP:TRANSPARENT
X-MICROSOFT-CDO-ALLDAYEVENT:TRUE
SUMMARY:Business Band Day for McNary Band
DESCRIPTION:Band kids will be out in the business district asking for donations for the band program.
X-ALT-DESC;FMTTYPE=text/html:Band kids will be out in the business district asking for donations for the band program.
LOCATION:
UID:e.63.2259
SEQUENCE:3
DTSTAMP:20260422T042349Z
URL:http://www.cm.keizerchamber.com/events/details/business-band-day-for-mcnary-band-08-28-2009-2259
END:VEVENT

END:VCALENDAR
