BEGIN:VCALENDAR
VERSION:2.0
PRODID:-//ChamberMaster//Event Calendar 2.0//EN
METHOD:PUBLISH
X-PUBLISHED-TTL:P3D
REFRESH-INTERVAL:P3D
CALSCALE:GREGORIAN
BEGIN:VEVENT
DTSTART:20080518T200000Z
DTEND:20080518T230000Z
X-MICROSOFT-CDO-ALLDAYEVENT:FALSE
SUMMARY:Celebration of Art & Wine
DESCRIPTION:A Celebration of Art & WineSample a great selection of wine as you preview Antiques and Art from local artisans in a fantastic setting. Free Admission & Parking. We are accepting donations for Marion/Polk Food Share
X-ALT-DESC;FMTTYPE=text/html:<div align="center"><font face="Verdana" size="3"><em><strong>A Celebration of Art &amp\; Wine</strong></em></font></div><div align="center"><font face="Verdana">Sample a great selection of wine as you preview Antiques and Art from local artisans in a fantastic setting.</font></div><div align="center">&nbsp\;</div><div align="center"><font face="Verdana">Free Admission &amp\; Parking.</font></div><div align="center">&nbsp\;</div><div align="center"><font face="Verdana" size="3">We are accepting donations for Marion/Polk Food Share</font></div>
LOCATION:The Gathering Place\, A Small Venue for Special Events7845 River Rd. NKeizer\, OR
UID:e.63.1713
SEQUENCE:3
DTSTAMP:20260423T035854Z
URL:http://www.cm.keizerchamber.com/events/details/celebration-of-art-wine-05-18-2008-1713
END:VEVENT

END:VCALENDAR
