BEGIN:VCALENDAR
VERSION:2.0
PRODID:-//ChamberMaster//Event Calendar 2.0//EN
METHOD:PUBLISH
X-PUBLISHED-TTL:P3D
REFRESH-INTERVAL:P3D
CALSCALE:GREGORIAN
BEGIN:VEVENT
DTSTART:20090723T210000Z
DTEND:20090723T230000Z
X-MICROSOFT-CDO-ALLDAYEVENT:FALSE
SUMMARY:Chair Massages by Moore\, Tessa LMT
DESCRIPTION:Stop by Care for Hair on Liberty Street and enjoy a fabulous chair massage by Tessa! Go as long as you like\, and relieve some of your tension.
X-ALT-DESC;FMTTYPE=text/html:Stop by Care for Hair on Liberty Street and enjoy a fabulous chair massage by Tessa! Go as long as you like\, and relieve some of your tension. 
LOCATION:Care for Hair is located on Liberty st off of Keubler.
UID:e.63.2239
SEQUENCE:3
DTSTAMP:20260422T060221Z
URL:http://www.cm.keizerchamber.com/events/details/chair-massages-by-moore-tessa-lmt-07-23-2009-2239
END:VEVENT

END:VCALENDAR
