BEGIN:VCALENDAR
VERSION:2.0
PRODID:-//ChamberMaster//Event Calendar 2.0//EN
METHOD:PUBLISH
X-PUBLISHED-TTL:P3D
REFRESH-INTERVAL:P3D
CALSCALE:GREGORIAN
BEGIN:VEVENT
DTSTART:20070808T223000Z
DTEND:20070809T000000Z
X-MICROSOFT-CDO-ALLDAYEVENT:FALSE
SUMMARY:Community Transit Center Discussion
DESCRIPTION:This dialogue is the first in a series of three meetings designed to help the Salem-Keizer Transit District identify a site and produce a preliminary design for this important transportation amenity.At this first meeting you'll:Learn about the project and its scheduleShare what you think are the most important goals and objectives for the project. See examples of what transit centers in other areas look like and how they function. Ask questions and express any concerns you might have about a new transit center near your home or business
X-ALT-DESC;FMTTYPE=text/html:<div><p><font face="Tahoma" size="4">This dialogue is the first in a series of three meetings designed to help the Salem-Keizer Transit District identify a site and produce a preliminary design for this important transportation amenity.</font></p><p><font face="Tahoma" size="4">At this first meeting you&rsquo\;ll:</font></p><font face="Tahoma" size="4"><p>Learn about the project and its schedule</p></font><p><font face="Tahoma" size="4">Share what you think are the most important goals and objectives for the project. </font></p><p><font face="Tahoma" size="4">See examples of what transit centers in other areas look like and how they function. </font></p><p><font face="Tahoma" size="4">Ask questions and express any concerns you might have about a new transit center near your home or business</font></p></div>
LOCATION:Keizer City Hall930 Chemawa RoadRobert L. Simon Council Chambers
UID:e.63.1292
SEQUENCE:3
DTSTAMP:20260423T160441Z
URL:http://www.cm.keizerchamber.com/events/details/community-transit-center-discussion-08-08-2007-1292
END:VEVENT

END:VCALENDAR
