BEGIN:VCALENDAR
VERSION:2.0
PRODID:-//ChamberMaster//Event Calendar 2.0//EN
METHOD:PUBLISH
X-PUBLISHED-TTL:P3D
REFRESH-INTERVAL:P3D
CALSCALE:GREGORIAN
BEGIN:VEVENT
DTSTART:20100221T040000Z
DTEND:20100221T070000Z
X-MICROSOFT-CDO-ALLDAYEVENT:FALSE
SUMMARY:Crossing 13th CD Release/Goodbye Show also featuring KTR
DESCRIPTION:Crossing 13th is a great rock band from Salem who won the Salem Battle of the Bands in 2008.  Unfortunately\, this is their last show.  Come on out and enjoy an evening of great rock music and say goodbye to the guys!
X-ALT-DESC;FMTTYPE=text/html:Crossing 13th is a great rock band from Salem who won the Salem Battle of the Bands in 2008.  Unfortunately\, this is their last show.  Come on out and enjoy an evening of great rock music and say goodbye to the guys!
LOCATION:Knights of Columbus Hall\, 725 Shipping St. NE\, Salem\, OR 97301
UID:e.63.2296
SEQUENCE:3
DTSTAMP:20260421T193614Z
URL:http://www.cm.keizerchamber.com/events/details/crossing-13th-cd-release-goodbye-show-also-featuring-ktr-02-20-2010-2296
END:VEVENT

END:VCALENDAR
