BEGIN:VCALENDAR
VERSION:2.0
PRODID:-//ChamberMaster//Event Calendar 2.0//EN
METHOD:PUBLISH
X-PUBLISHED-TTL:P3D
REFRESH-INTERVAL:P3D
CALSCALE:GREGORIAN
BEGIN:VEVENT
DTSTART:20100521T210000Z
DTEND:20100524T010000Z
X-MICROSOFT-CDO-ALLDAYEVENT:FALSE
SUMMARY:Crown the Hound
DESCRIPTION:Calling all dog lovers! The Keizer Iris festival is offering its second annual Crown the Hound competition\, sponsored by Petco. Win prizes\, show off your pooch\, and have a blast while supporting your community. There will be animals for adoption\, a pet fashion show on May 21\, a best trick contest on May 22\, and a best kiss contest on May 23. All events start at 2 PM and there is a $5 entry fee. All proceeds benefit the Keizer Police Department K9 Unit and various animal rescue teams.
X-ALT-DESC;FMTTYPE=text/html:<div>Calling all dog lovers! The Keizer Iris festival is offering its second annual Crown the Hound competition\, sponsored by Petco. Win prizes\, show off your pooch\, and have a blast while supporting your community. There will be animals for adoption\, a pet fashion show on May 21\, a best trick contest on May 22\, and a best kiss contest on May 23. All events start at 2 PM and there is a $5 entry fee. All proceeds benefit the Keizer Police Department K9 Unit and various animal rescue teams.</div>
LOCATION:PETCO6425 Keizer Station Blvd. NEKeizer\, OR 97303Phone: 503-393-0698
UID:e.63.2337
SEQUENCE:3
DTSTAMP:20260421T151441Z
URL:http://www.cm.keizerchamber.com/events/details/crown-the-hound-05-21-2010-2337
END:VEVENT

END:VCALENDAR
