BEGIN:VCALENDAR
VERSION:2.0
PRODID:-//ChamberMaster//Event Calendar 2.0//EN
METHOD:PUBLISH
X-PUBLISHED-TTL:P3D
REFRESH-INTERVAL:P3D
CALSCALE:GREGORIAN
BEGIN:VEVENT
DTSTART;VALUE=DATE:20070328
DTEND;VALUE=DATE:20070329
TRANSP:TRANSPARENT
X-MICROSOFT-CDO-ALLDAYEVENT:TRUE
SUMMARY:Curves Community Food Drive
DESCRIPTION:Curves of Keizer wiil be participating in the Curves Food Drive to benefit local food banks.Last year\, the Curves Food Drive collected 11 million pounds of food for local communities all over the world.\nTo celebrate the generosity of the community\, Curves is waiving its normal service fee* for any new member who brings in a bag of non-parishable groceries and joins between March 1st and March 10th.'' We have a chance to help so many people at a time when the food banks are lowest\, while we assist more women in reaching their fitness and weight loss goals. It's a win-win situation for everyone\, and we are very proud to participate.''\nOthers wishing to donate may drop off non-perishable food items at Curves Monday through Saturday during business hours through the month of March.
X-ALT-DESC;FMTTYPE=text/html:Curves of Keizer wiil be participating in the Curves Food Drive to benefit local food banks.Last year\, the Curves Food Drive collected 11 million pounds of food for local communities all over the world.\nTo celebrate the generosity of the community\, Curves is waiving its normal service fee* for any new member who brings in a bag of non-parishable groceries and joins between March 1st and March 10th.'' We have a chance to help so many people at a time when the food banks are lowest\, while we assist more women in reaching their fitness and weight loss goals. It's a win-win situation for everyone\, and we are very proud to participate.''\nOthers wishing to donate may drop off non-perishable food items at Curves Monday through Saturday during business hours through the month of March.
LOCATION:4470 River Rd N Keizer Or 97303 On south side of Keizer Town Square
UID:e.63.729
SEQUENCE:3
DTSTAMP:20260423T223545Z
URL:http://www.cm.keizerchamber.com/events/details/curves-community-food-drive-03-28-2007-729
END:VEVENT

END:VCALENDAR
