BEGIN:VCALENDAR
VERSION:2.0
PRODID:-//ChamberMaster//Event Calendar 2.0//EN
METHOD:PUBLISH
X-PUBLISHED-TTL:P3D
REFRESH-INTERVAL:P3D
CALSCALE:GREGORIAN
BEGIN:VEVENT
DTSTART:20070428T014500Z
DTEND:20070428T040000Z
X-MICROSOFT-CDO-ALLDAYEVENT:FALSE
SUMMARY:Cwerks Murder Mystery
DESCRIPTION:Cwerks presents "Pigs\, Pineapple\, and Poison" on board the Willamette Queen Sternwheeler. Admission price includes dinner\, 2-hour cruise\, and the interactive mystery.
X-ALT-DESC;FMTTYPE=text/html:Cwerks presents "Pigs\, Pineapple\, and Poison" on board the Willamette Queen Sternwheeler. Admission price includes dinner\, 2-hour cruise\, and the interactive mystery.
LOCATION:Willamette Queen\, Salem's River Front Park
UID:e.63.999
SEQUENCE:3
DTSTAMP:20260423T211152Z
URL:http://www.cm.keizerchamber.com/events/details/cwerks-murder-mystery-04-27-2007-999
END:VEVENT

END:VCALENDAR
