BEGIN:VCALENDAR
VERSION:2.0
PRODID:-//ChamberMaster//Event Calendar 2.0//EN
METHOD:PUBLISH
X-PUBLISHED-TTL:P3D
REFRESH-INTERVAL:P3D
CALSCALE:GREGORIAN
BEGIN:VEVENT
DTSTART:20090611T180000Z
DTEND:20090611T203000Z
X-MICROSOFT-CDO-ALLDAYEVENT:FALSE
SUMMARY:Event at AAA
DESCRIPTION:Salem AAA 4th Annual Member Appreciation Day.
X-ALT-DESC;FMTTYPE=text/html:Salem AAA 4th Annual Member Appreciation Day.   \n 
LOCATION:Salem AAA 2909 Ryan Dr SE Salem Oregon
UID:e.63.1952
SEQUENCE:3
DTSTAMP:20260422T073329Z
URL:http://www.cm.keizerchamber.com/events/details/event-at-aaa-06-11-2009-1952
END:VEVENT

END:VCALENDAR
