BEGIN:VCALENDAR
VERSION:2.0
PRODID:-//ChamberMaster//Event Calendar 2.0//EN
METHOD:PUBLISH
X-PUBLISHED-TTL:P3D
REFRESH-INTERVAL:P3D
CALSCALE:GREGORIAN
BEGIN:VEVENT
DTSTART:20100817T013500Z
DTEND:20100817T040000Z
X-MICROSOFT-CDO-ALLDAYEVENT:FALSE
SUMMARY:Event at Cosmetics - Mary Kay
DESCRIPTION:Pink in the Park\n\nHosted by Mary Kay Sales Force and Volcanoes Stadium \n\nOur goal is to sell 500 tickets.  $3 from each ticket sold goes to The Mary Kay Foundation for researching cancers that affect women.  Help us fight!    \n\n\n\nT-Shirts available for $15.  Contact me!
X-ALT-DESC;FMTTYPE=text/html:Pink in the Park\n<br>Hosted by Mary Kay Sales Force and Volcanoes Stadium \n<br>Our goal is to sell 500 tickets.  $3 from each ticket sold goes to The Mary Kay Foundation for researching cancers that affect women.  Help us fight!    \n<br>\n<br>T-Shirts available for $15.  Contact me!
LOCATION:Volcanoes Stadium
UID:e.63.2360
SEQUENCE:3
DTSTAMP:20260421T103830Z
URL:http://www.cm.keizerchamber.com/events/details/event-at-cosmetics-mary-kay-08-16-2010-2360
END:VEVENT

END:VCALENDAR
