BEGIN:VCALENDAR
VERSION:2.0
PRODID:-//ChamberMaster//Event Calendar 2.0//EN
METHOD:PUBLISH
X-PUBLISHED-TTL:P3D
REFRESH-INTERVAL:P3D
CALSCALE:GREGORIAN
BEGIN:VEVENT
DTSTART:20100424T180000Z
DTEND:20100424T210000Z
X-MICROSOFT-CDO-ALLDAYEVENT:FALSE
SUMMARY:Event at Platinum Sports & Fitness
DESCRIPTION:Join Weight Watchers and Platinum Fitness. We are joining forces to help you create a healthy lifestyle.\n\nWe are offering FREE registration\, Intiation fees\, BMI and Body Fat Testing\, Prizes and MUCH MORE
X-ALT-DESC;FMTTYPE=text/html:Join Weight Watchers and Platinum Fitness. We are joining forces to help you create a healthy lifestyle.\n<br>We are offering FREE registration\, Intiation fees\, BMI and Body Fat Testing\, Prizes and MUCH MORE
LOCATION:3850 River Rd N Keizer OR
UID:e.63.2338
SEQUENCE:3
DTSTAMP:20260421T164514Z
URL:http://www.cm.keizerchamber.com/events/details/event-at-platinum-sports-fitness-04-24-2010-2338
END:VEVENT

END:VCALENDAR
