BEGIN:VCALENDAR
VERSION:2.0
PRODID:-//ChamberMaster//Event Calendar 2.0//EN
METHOD:PUBLISH
X-PUBLISHED-TTL:P3D
REFRESH-INTERVAL:P3D
CALSCALE:GREGORIAN
BEGIN:VEVENT
DTSTART;VALUE=DATE:20080111
DTEND;VALUE=DATE:20080114
TRANSP:TRANSPARENT
X-MICROSOFT-CDO-ALLDAYEVENT:TRUE
SUMMARY:Event at The Soup Shack
DESCRIPTION:26th Annual Oregon Wine & Food Fesitval.  The Soup Shack will be offering sampling of Gourmet Soups!  Stop by our booth to try our delicious soups!
X-ALT-DESC;FMTTYPE=text/html:26th Annual Oregon Wine & Food Fesitval.  The Soup Shack will be offering sampling of Gourmet Soups!  Stop by our booth to try our delicious soups! 
LOCATION:Oregon State Fairgrounds/Jackman Long Building
UID:e.63.1695
SEQUENCE:3
DTSTAMP:20260423T093124Z
URL:http://www.cm.keizerchamber.com/events/details/event-at-the-soup-shack-01-11-2008-1695
END:VEVENT

END:VCALENDAR
