BEGIN:VCALENDAR
VERSION:2.0
PRODID:-//ChamberMaster//Event Calendar 2.0//EN
METHOD:PUBLISH
X-PUBLISHED-TTL:P3D
REFRESH-INTERVAL:P3D
CALSCALE:GREGORIAN
BEGIN:VEVENT
DTSTART:20100523T020000Z
DTEND:20100523T040000Z
X-MICROSOFT-CDO-ALLDAYEVENT:FALSE
SUMMARY:Family Friendly Comedy Night at the Kroc
DESCRIPTION:"ComedySportz-Portland will play a public show in Salem for the Very First Time!  Playing at the 288-seat Chapel/Theater at the fantastic new Ray and Joan Kroc Corps Community Center will be a fantastic experience for us\, and convenient for all of our fans from the Salem area.  The facility is beautiful (and comfortable!) and our Touring Company will be playing a Full Court competition show. As always\, the ComedySportz Show is clean\, fast\, funny and suitable for all audiences.\n\n\n\nA portion of the proceeds will benefit the Kroc Center Scholarship Fund.\n\n\n\nSaturday\, May at 7:30pm\n\nDoors open at 7:00pm\n\nKroc Center is located at 1865 Bill Frey Dr.\, Salem\n\nAll tickets are $10\n\n\n\nTickets are available through ComedySportz - call 503.236.8888 or buy on-line at https://www.portlandcomedy.com/reservations/ \; you can also buy tickets at the door if the show is not sold out. Remaining tickets will go onsale at 7:00pm (cash only)."
X-ALT-DESC;FMTTYPE=text/html:"ComedySportz-Portland will play a public show in Salem for the Very First Time!  Playing at the 288-seat Chapel/Theater at the fantastic new Ray and Joan Kroc Corps Community Center will be a fantastic experience for us\, and convenient for all of our fans from the Salem area.  The facility is beautiful (and comfortable!) and our Touring Company will be playing a Full Court competition show. As always\, the ComedySportz Show is clean\, fast\, funny and suitable for all audiences.\n<br>\n<br>A portion of the proceeds will benefit the Kroc Center Scholarship Fund.\n<br>\n<br>Saturday\, May at 7:30pm\n<br>Doors open at 7:00pm\n<br>Kroc Center is located at 1865 Bill Frey Dr.\, Salem\n<br>All tickets are $10\n<br>\n<br>Tickets are available through ComedySportz - call 503.236.8888 or buy on-line at https://www.portlandcomedy.com/reservations/ \; you can also buy tickets at the door if the show is not sold out. Remaining tickets will go onsale at 7:00pm (cash only)."\n<br>
LOCATION:The Salem Kroc Center
UID:e.63.2341
SEQUENCE:3
DTSTAMP:20260421T153852Z
URL:http://www.cm.keizerchamber.com/events/details/family-friendly-comedy-night-at-the-kroc-05-22-2010-2341
END:VEVENT

END:VCALENDAR
