BEGIN:VCALENDAR
VERSION:2.0
PRODID:-//ChamberMaster//Event Calendar 2.0//EN
METHOD:PUBLISH
X-PUBLISHED-TTL:P3D
REFRESH-INTERVAL:P3D
CALSCALE:GREGORIAN
BEGIN:VEVENT
DTSTART:20090517T170000Z
DTEND:20090517T210000Z
X-MICROSOFT-CDO-ALLDAYEVENT:FALSE
SUMMARY:Fellowship Jamboree Pancake Breakfast
DESCRIPTION:Join family and friends at the Iris Festival Fellowship Jamboree Pancake Breakfast.Stop by the Big Tent at the Keizer Station during Iris Festival weekend for a pancake breakfast with scrambled eggs and more. Listen to various Christian bands playing pleasant music in the background and enjoy breakfast for just $4.00For more information contact the Chamber at 503-393-9111 or visit www.irisfestival.com or register and payonline through this invitation.
X-ALT-DESC;FMTTYPE=text/html:<p>Join family and friends at the Iris Festival Fellowship Jamboree Pancake Breakfast.</p><p>Stop by the Big Tent at the Keizer Station during Iris Festival weekend for a pancake breakfast with scrambled eggs and more. Listen to various Christian bands playing pleasant music in the background and enjoy breakfast&nbsp\;for just $4.00</p><p>For more information contact the Chamber at 503-393-9111 or visit <a href="http://www.irisfestival.com">www.irisfestival.com</a>&nbsp\;or register and payonline through this invitation.</p>
LOCATION:Big TentKeizer Station Blvd (next to Bed Bath & Beyond)Keizer\, Oregon
UID:e.63.1944
SEQUENCE:3
DTSTAMP:20260422T090930Z
URL:http://www.cm.keizerchamber.com/events/details/fellowship-jamboree-pancake-breakfast-05-17-2009-1944
END:VEVENT

END:VCALENDAR
