BEGIN:VCALENDAR
VERSION:2.0
PRODID:-//ChamberMaster//Event Calendar 2.0//EN
METHOD:PUBLISH
X-PUBLISHED-TTL:P3D
REFRESH-INTERVAL:P3D
CALSCALE:GREGORIAN
BEGIN:VEVENT
DTSTART:20080127T020000Z
DTEND:20080127T060000Z
X-MICROSOFT-CDO-ALLDAYEVENT:FALSE
SUMMARY:First Citizen's Banquet
DESCRIPTION:Keizer Chamber of Commerce presents..."All That Jazz" our annual First Citizen's Banquet\, held at the Renaissance Inn. Surprise visits by Keizer dignitaries and a filming crew were made to five special people announcing plans for future recognition of their efforts at Keizer's Black & White First Citizens Banquet. Greg Frank of Keizer True Value will receive the First Citizen Award.Susy Riches of Loren's Sanitation will receive the Merchant of the Year Award.Steve Sanchez of Claggett Middle School will receive the Service to Education Award.Mark & Jennifer Skipper representing Dayspring Fellowship will receive the President's Award.Audrey Butler and KNOW Keizer's Network of Women will also receive the President's Award. All award recipients will be honored at Keizer's banquet on January 26th\, 2008. Past recipients will honor and present a special gift to the award winners\, the program will also include a film presentation of the surprised visits. The Banquet is open to the public\, tickets can be purchased for $50 at the Keizer Chamber of Commerce or by calling Paula Moseley at 503.393.9111. Reservations via email are also acceptable at paula@keizerchamber.com
X-ALT-DESC;FMTTYPE=text/html:<div>Keizer Chamber of Commerce presents...</div><div>&quot\;All That Jazz&quot\; our annual First Citizen&rsquo\;s Banquet\, held at the Renaissance Inn.</div><div>&nbsp\;</div><div>Surprise visits by Keizer dignitaries and a filming crew were made to five special people announcing plans for future recognition of their efforts at Keizer&rsquo\;s Black &amp\; White First Citizens Banquet.</div><div>&nbsp\;</div><div><strong>Greg Frank</strong> of Keizer True Value will receive the First Citizen Award.</div><div><strong>Susy Riches </strong>of Loren&rsquo\;s Sanitation will receive the Merchant of the Year Award.</div><div><strong>Steve Sanchez </strong>of Claggett Middle School will receive the Service to Education Award.</div><div><strong>Mark &amp\; Jennifer Skipper representing Dayspring Fellowship </strong>will receive the President&rsquo\;s Award.</div><div><strong>Audrey Butler and KNOW </strong>Keizer&rsquo\;s Network of Women will also receive the President&rsquo\;s Award.</div><div>&nbsp\;</div><div>All award recipients will be honored at Keizer&rsquo\;s banquet on January 26th\, 2008. Past recipients will honor and present a special gift to the award winners\, the program will also include a film presentation of the surprised visits.</div><div>&nbsp\;</div><div>The Banquet is open to the public\, tickets can be purchased for $50 at the Keizer Chamber of Commerce or by calling Paula Moseley at 503.393.9111. Reservations via email are also acceptable at <a href="mailto:paula@keizerchamber.com">paula@keizerchamber.com</a></div><div>&nbsp\;</div>
LOCATION:Keizer Renaissance Inn5188 Wittenberg LaneKeizer\, OR.
UID:e.63.1687
SEQUENCE:3
DTSTAMP:20260423T092050Z
URL:http://www.cm.keizerchamber.com/events/details/first-citizen-s-banquet-01-26-2008-1687
END:VEVENT

END:VCALENDAR
