BEGIN:VCALENDAR
VERSION:2.0
PRODID:-//ChamberMaster//Event Calendar 2.0//EN
METHOD:PUBLISH
X-PUBLISHED-TTL:P3D
REFRESH-INTERVAL:P3D
CALSCALE:GREGORIAN
BEGIN:VEVENT
DTSTART:20080425T003000Z
DTEND:20080425T030000Z
X-MICROSOFT-CDO-ALLDAYEVENT:FALSE
SUMMARY:First Tech Credit Union Ribbon Cutting & After Hours
DESCRIPTION:Come celebrate the opening of the new First Tech Credit Union Keizer Station branch with a Ribbon Cutting Ceremony & After Hours Event. The Ribbon Cutting Ceremony begins at 5:30 pm and the After Hours begins at 6:00 pm. Come see what First Tech is all about\, do some networking and enjoy refreshments by Elegant Catering. There will be some great doorprizes from Steam Heat Coffeehouse\, Willow Lake Golf Center & Driving Range & Caruso's Italian Cafe. Please RSVP to Paula at paula@keizerchamber.com or at 503-393-9111 We hope to see you there\, supporting this Chamber member.
X-ALT-DESC;FMTTYPE=text/html:<div>Come celebrate the opening of the new First Tech Credit Union Keizer Station branch with a Ribbon Cutting Ceremony &amp\; After Hours Event.</div><div>&nbsp\;</div><div>The Ribbon Cutting Ceremony begins at 5:30 pm and the After Hours begins at 6:00 pm. Come see what First Tech is all about\, do some networking and enjoy refreshments by Elegant Catering.</div><div>&nbsp\;</div><div>There will be some great doorprizes from Steam Heat Coffeehouse\, Willow Lake Golf Center &amp\; Driving Range &amp\; Caruso's Italian Cafe.</div><div>&nbsp\;</div><div>Please RSVP to Paula at <a href="mailto:paula@keizerchamber.com">paula@keizerchamber.com</a> or at 503-393-9111</div><div>&nbsp\;</div><div>We hope to see you there\, supporting this Chamber member.</div>
LOCATION:First Tech Credit Union6015 Ulali Drive (Keizer Station)Keizer\, Oregon
UID:e.63.1721
SEQUENCE:3
DTSTAMP:20260423T053210Z
URL:http://www.cm.keizerchamber.com/events/details/first-tech-credit-union-ribbon-cutting-after-hours-04-24-2008-1721
END:VEVENT

END:VCALENDAR
