BEGIN:VCALENDAR
VERSION:2.0
PRODID:-//ChamberMaster//Event Calendar 2.0//EN
METHOD:PUBLISH
X-PUBLISHED-TTL:P3D
REFRESH-INTERVAL:P3D
CALSCALE:GREGORIAN
BEGIN:VEVENT
DTSTART:20100516T010000Z
DTEND:20100516T063000Z
X-MICROSOFT-CDO-ALLDAYEVENT:FALSE
SUMMARY:''Get Rich'' Texas Hold'em Tournament
DESCRIPTION:Iris Festival "Get Rich" Texas Hold'em Tournament presented by Rich Duncan Construction\, Walsh & Associates & Advantage Precast. Here is your chance to win at Texas Hold'em Poker. Seating is limited so save the date and reserve your seat. Amateurs\, home gamers\, women and men all over the age of 18 are welcome. A no host bar is available.  Registration begins at 6:00 pm with tournament play beginning at 7:00 pm at Tuff Ranch. $30 buy in with ten $15 re-buys available the first two hours of play. Many great cash prizes are in store (payable in visa cards). We hope to see you there!
X-ALT-DESC;FMTTYPE=text/html:<div>Iris Festival &quot\;Get Rich&quot\; Texas Hold&rsquo\;em Tournament presented by Rich Duncan Construction\, Walsh &amp\;&nbsp\;Associates &amp\; Advantage Precast.</div><div>&nbsp\;</div><div>Here is your chance to win at Texas Hold&rsquo\;em Poker. Seating is limited so save the date and reserve your seat. Amateurs\, home gamers\, women and men all over the age of 18 are welcome. A&nbsp\;no host bar is available.&nbsp\;</div><div>&nbsp\;</div><div>Registration begins at 6:00 pm&nbsp\;with tournament play beginning at 7:00 pm at Tuff Ranch. $30 buy in&nbsp\;with ten $15 re-buys available&nbsp\;the first two hours of play.</div><div>&nbsp\;</div><div>Many great cash prizes are in store (payable in visa cards). We hope to see you there!</div>
LOCATION:Tuff Ranch BBQ at McNary Golf Course
UID:e.63.2330
SEQUENCE:3
DTSTAMP:20260421T150805Z
URL:http://www.cm.keizerchamber.com/events/details/get-rich-texas-hold-em-tournament-05-15-2010-2330
END:VEVENT

END:VCALENDAR
