BEGIN:VCALENDAR
VERSION:2.0
PRODID:-//ChamberMaster//Event Calendar 2.0//EN
METHOD:PUBLISH
X-PUBLISHED-TTL:P3D
REFRESH-INTERVAL:P3D
CALSCALE:GREGORIAN
BEGIN:VEVENT
DTSTART:20091022T190000Z
DTEND:20091022T200000Z
X-MICROSOFT-CDO-ALLDAYEVENT:FALSE
SUMMARY:Gift Basket Meeting
DESCRIPTION:Join our Gift Basket Program meeting.  There's plenty of opportunity for you to volunteer your time in one or all of the phases of the program.  See you at Coffee Paradigm\, Keizer!
X-ALT-DESC;FMTTYPE=text/html:<div><span style="font-family: Comic Sans MS"><span style="font-size: larger">Join&nbsp\;our Gift Basket Program meeting.&nbsp\; There&rsquo\;s plenty of opportunity for you to volunteer your time in one or all of the&nbsp\;phases of the program.&nbsp\;</span></span></div><div><span style="font-family: Comic Sans MS"><span style="font-size: larger">&nbsp\;</span></span></div><div><span style="font-family: Comic Sans MS"><span style="font-size: larger">See you at Coffee&nbsp\;Paradigm\, Keizer!&nbsp\;</span></span></div>
LOCATION:COFFEE PARADIGM 4769 River Road Keizer\, OR
UID:e.63.2272
SEQUENCE:3
DTSTAMP:20260422T012835Z
URL:http://www.cm.keizerchamber.com/events/details/gift-basket-meeting-10-22-2009-2272
END:VEVENT

END:VCALENDAR
