BEGIN:VCALENDAR
VERSION:2.0
PRODID:-//ChamberMaster//Event Calendar 2.0//EN
METHOD:PUBLISH
X-PUBLISHED-TTL:P3D
REFRESH-INTERVAL:P3D
CALSCALE:GREGORIAN
BEGIN:VEVENT
DTSTART:20100403T160000Z
DTEND:20100403T190000Z
X-MICROSOFT-CDO-ALLDAYEVENT:FALSE
SUMMARY:Habitat for Humanity Family Fun Run
DESCRIPTION:Mid-Willamette Valley runners\, walkers and families are invited to a 5K event at Minto-Brown Park on River Road South at 9 a.m. Saturday\, April 3\, to kick off the 2010 Habitat for Humanity Women Build. This is an opportunity for everyone to get out\, enjoy spring conditions and help raise funds and awareness for Habitat's Women Build\, said Family Fun Run volunteer coordinator Becky O'Brien. \n Online registrations for the event are now being taken at www.salemhabitat.org.  Jog strollers are welcome\, but pets will not be allowed on the course. The top three finishers in men's and women's divisions will receive awards. Prize drawings are planned. A free Kids Race for children up to 8 years old also will take place following the main event. All children will receive participation recognition.\nFrom March through November\, Habitat for Humanity Mid-Willamette Valley will be constructing a home on Samaritan Lane in South Salem which will be occupied by single mother Tammy Thomas and her two daughters. Build organizers are hoping to see women come out in force to work on the project. \n\nFun Run sponsors include Cherry City Interiors & Design\, Run Wild Adventures\, Gallagher Fitness Resources\, Willamette Valley Roadrunners and Shaw Industries Inc.
X-ALT-DESC;FMTTYPE=text/html:<div>Mid-Willamette Valley runners\, walkers and families are invited to a 5K event at Minto-Brown Park on River Road South at 9 a.m. Saturday\, April 3\, to kick off the 2010 Habitat for Humanity Women Build. This is an opportunity for everyone to get out\, enjoy spring conditions and help raise funds and awareness for Habitat's Women Build\, said Family Fun Run volunteer coordinator Becky O'Brien. <br />&nbsp\;</div><div>Online registrations for the event are now being taken at www.salemhabitat.org.&nbsp\; Jog strollers are welcome\, but pets will not be allowed on the course. The top three finishers in men's and women's divisions will receive awards. Prize drawings are planned. A free Kids Race for children up to 8 years old also will take place following the main event. All children will receive participation recognition.</div><div><br />From March through November\, Habitat for Humanity Mid-Willamette Valley will be constructing a home on Samaritan Lane in South Salem which will be occupied by single mother Tammy Thomas and her two daughters. Build organizers are hoping to see women come out in force to work on the project. <br /><br />Fun Run sponsors include Cherry City Interiors &amp\; Design\, Run Wild Adventures\, Gallagher Fitness Resources\, Willamette Valley Roadrunners and Shaw Industries Inc. <br />&nbsp\;</div>
LOCATION:Minto Brown Park on River Road South
UID:e.63.2312
SEQUENCE:3
DTSTAMP:20260421T164306Z
URL:http://www.cm.keizerchamber.com/events/details/habitat-for-humanity-family-fun-run-04-03-2010-2312
END:VEVENT

END:VCALENDAR
