BEGIN:VCALENDAR
VERSION:2.0
PRODID:-//ChamberMaster//Event Calendar 2.0//EN
METHOD:PUBLISH
X-PUBLISHED-TTL:P3D
REFRESH-INTERVAL:P3D
CALSCALE:GREGORIAN
BEGIN:VEVENT
DTSTART:20091031T230000Z
DTEND:20091101T020000Z
X-MICROSOFT-CDO-ALLDAYEVENT:FALSE
SUMMARY:Halloween Photo Event at Clipfell Photography
DESCRIPTION:Trick or Treat Clipfell Photography this year to get more than just candy in your bag! Take home a lifetime keepsake photo of this years costume! Get your photo taken for free and view it on our website\, or purchase 2 4x6 size prints on the spot for only $10.00!
X-ALT-DESC;FMTTYPE=text/html:Trick or Treat Clipfell Photography this year to get more than just candy in your bag! Take home a lifetime keepsake photo of this years costume! Get your photo taken for free and view it on our website\, or purchase 2 4x6 size prints on the spot for only $10.00!
LOCATION:5605 Inland Shores Way Suite 110 Keizer\, OR 97303
UID:e.63.2276
SEQUENCE:3
DTSTAMP:20260422T013131Z
URL:http://www.cm.keizerchamber.com/events/details/halloween-photo-event-at-clipfell-photography-10-31-2009-2276
END:VEVENT

END:VCALENDAR
