BEGIN:VCALENDAR
VERSION:2.0
PRODID:-//ChamberMaster//Event Calendar 2.0//EN
METHOD:PUBLISH
X-PUBLISHED-TTL:P3D
REFRESH-INTERVAL:P3D
CALSCALE:GREGORIAN
BEGIN:VEVENT
DTSTART:20100711T000000Z
DTEND:20100711T040000Z
X-MICROSOFT-CDO-ALLDAYEVENT:FALSE
SUMMARY:Impromptu McNary High School 70's Reunion at the Amp
DESCRIPTION:K.R.A. LLC presents: The Boomers and Steelhead\, Saturday\, July 10\, 2010\, 5:00 pm. Gates open at 4:00 pm. Impromptu McNary High School 1970 to 1979 class reunion.  This is a free event - wine and beer available. Sponsored by the City of Keizer\, R. Bauer Insurance\, Sam Goesch Insurance\, Industrial Welding Supply\, Boucher Jewelers\, Silverton Rd. Automotive\, Steam Heat Coffeehouse\, and Transmission Parts Co./Flat-o Products.
X-ALT-DESC;FMTTYPE=text/html:<div><strong><font size="4">K.R.A</font><font size="2">.&nbsp\;LLC presents: <font color="#cc3300" size="4"><a title="View the Boomers web site" target="_blank" href="http://www.boomerslive.net/">The Boomers </a></font>and <a title="View Steelhead&rsquo\;s Myspace Page" target="_blank" href="http://www.myspace.com/steelheadblues"><font size="4">Steelhead</font></a></font></strong><font size="3">\,</font> Saturday\, July 10\, 2010\,&nbsp\;5:00 pm. Gates open at 4:00 pm. Impromptu McNary High School&nbsp\;1970 to 1979 class reunion. &nbsp\;<strong>This is a free event -&nbsp\;</strong>wine and beer available. Sponsored by the <a title="View City of Keizer&rsquo\;s web site" target="_blank" href="http://www.keizer.org/"><strong>City of Keizer</strong></a>\, <a title="View map with directions for R. Bauer Insurance" target="_blank" href="http://maps.google.com/maps/place?hl=en&amp\;um=1&amp\;ie=UTF-8&amp\;q=r.+bauer+insurance&amp\;fb=1&amp\;gl=us&amp\;hq=r.+bauer+insurance&amp\;hnear=Portland\,+OR&amp\;cid=15657717643360620547"><strong>R. Bauer Insurance</strong></a>\, <a title="View Sam Goesch Insurance web site" target="_parent" href="http://online2.statefarm.com/b2c/sf/agent/37/2046"><strong>Sam Goesch Insurance</strong></a>\,<strong>&nbsp\;</strong><a title="View Industrial Welding Supply&rsquo\;s web site" target="_blank" href="http://www.industrialwelding.net/"><strong>Industrial Welding Supply</strong></a>\, <a title="View map and directions for Boucher Jewelers" target="_parent" href="http://maps.google.com/maps/place?hl=en&amp\;um=1&amp\;ie=UTF-8&amp\;q=Boucher+Jewelers&amp\;fb=1&amp\;gl=us&amp\;hq=Boucher+Jewelers&amp\;hnear=Portland\,+OR&amp\;cid=13658420692470063627"><strong>Boucher Jewelers</strong></a>\, <a title="View map and directions for Silverton Rd. Automotive" target="_blank" href="http://maps.google.com/maps?hl=en&amp\;q=Silverton+Rd.+Automotive+salem&amp\;um=1&amp\;ie=UTF-8&amp\;ei=1EsZTKqNFZGSNu2LpPUE&amp\;sa=X&amp\;oi=mode_link&amp\;ct=mode&amp\;ved=0CAkQ_AU"><strong>Silverton Rd. Automotive</strong></a>\, <a title="View Myspace page for Steam Heat Coffeehouse" target="_blank" href="http://www.myspace.com/steamheatcoffee"><strong>Steam Heat Coffeehouse</strong></a>\, and <a title="View map and directions for Transmission Parts Co." target="_blank" href="http://maps.google.com/maps/place?hl=en&amp\;um=1&amp\;ie=UTF-8&amp\;q=Transmission+Parts+Co+salem+oregon&amp\;fb=1&amp\;gl=us&amp\;hq=Transmission+Parts+Co&amp\;hnear=Salem\,+OR&amp\;cid=3913025521619517480"><strong>Transmission Parts Co</strong></a><strong>./</strong><a title="View Flat-o Products web site" target="_blank" href="http://www.flat-o.com/"><strong>Flat-o Products</strong></a>.&nbsp\;</div>
LOCATION:1900 Chemawa Rd.\, N - Keizer\, OR 97303
UID:e.63.2358
SEQUENCE:3
DTSTAMP:20260421T120440Z
URL:http://www.cm.keizerchamber.com/events/details/impromptu-mcnary-high-school-70-s-reunion-at-the-amp-07-10-2010-2358
END:VEVENT

END:VCALENDAR
