BEGIN:VCALENDAR
VERSION:2.0
PRODID:-//ChamberMaster//Event Calendar 2.0//EN
METHOD:PUBLISH
X-PUBLISHED-TTL:P3D
REFRESH-INTERVAL:P3D
CALSCALE:GREGORIAN
BEGIN:VEVENT
DTSTART:20100521T180000Z
DTEND:20100522T000000Z
X-MICROSOFT-CDO-ALLDAYEVENT:FALSE
SUMMARY:Iris Festival Golf Tournament Presented by Quick Lane
DESCRIPTION:Iris Festival Golf Tournament sponsored by Quick Lane. Be part of the fun\, join us at beautiful McNary Golf Course for a four-person team (scramble). Shotgun start at 11:00 am\, check in from 10:00-11:00am. Your entry includes golf\, golf carts\, great prizes\, food and big tent VIP entertainment passes. Applications must be received by May 17th. You can also support the Keizer Chamber while promoting your business with an Exclusive Hole Sponsorship for $250 or a standard hole sponsorship for $100. Contact the Chamber for your registration or more information at 503-393-9111
X-ALT-DESC;FMTTYPE=text/html:<div><font size="2">Iris Festival Golf Tournament sponsored by Quick Lane.</font></div><div><font size="2">&nbsp\;</font></div><div><font size="2">Be part of the fun\, join us at beautiful McNary Golf Course for a four-person team (scramble). Shotgun start at 11:00 am\, check in from 10:00-11:00am. Your entry includes golf\, golf carts\, great prizes\, food and big tent VIP entertainment passes. Applications must be received by May 17th.</font></div><div><font size="2">&nbsp\;</font></div><div><font size="2">You can also support the Keizer Chamber while promoting your business with an Exclusive Hole Sponsorship for $250 or a standard hole sponsorship for $100.&nbsp\;Contact the Chamber for your registration or more information at 503-393-9111</font></div>
LOCATION:McNary Golf Course155 McNary Estates Drive NKeizer\, Oregon
UID:e.63.2331
SEQUENCE:3
DTSTAMP:20260421T152028Z
URL:http://www.cm.keizerchamber.com/events/details/iris-festival-golf-tournament-presented-by-quick-lane-05-21-2010-2331
END:VEVENT

END:VCALENDAR
