BEGIN:VCALENDAR
VERSION:2.0
PRODID:-//ChamberMaster//Event Calendar 2.0//EN
METHOD:PUBLISH
X-PUBLISHED-TTL:P3D
REFRESH-INTERVAL:P3D
CALSCALE:GREGORIAN
BEGIN:VEVENT
DTSTART:20090514T000000Z
DTEND:20090513T190000Z
X-MICROSOFT-CDO-ALLDAYEVENT:FALSE
SUMMARY:Iris Festival Texas Hold'em Tournament
DESCRIPTION:Iris Festival Texas Hold'em Tournament sponsored by Rich Duncan Construction. Here is your chance to win at Texas Hold'em Poker. Seating is limited so save the date and reserve your seat. Amateurs\, home gamers\, women and men all over the age of 18 are welcome. A no host bar is available and the price includes a VIP pass to the festival Big Tent for May 16th or 17th. Registration begins at 5:30 pm with tournament play beginning at 6:00 pm in the Iris Festival Big Tent. $50 buy in gets you $1500 in chips. Increase your odds or get a second chance with your two available re-buy options ($25 per re-buy). $25 rebuy gets you an additional $1000 in chips. Many great cash prizes are in store with the first place prize at $1\,250. (payable in visa cards). We hope to see you there!
X-ALT-DESC;FMTTYPE=text/html:<div>Iris Festival Texas Hold'em Tournament sponsored by Rich Duncan Construction.</div><div>&nbsp\;</div><div>Here is your chance to win at Texas Hold'em Poker. Seating is limited so save the date and reserve your seat. Amateurs\, home gamers\, women and men all over the age of 18 are welcome. A&nbsp\;no host bar is available and the price includes a VIP pass to the festival&nbsp\;Big Tent for May 16th or 17th.</div><div>&nbsp\;</div><div>Registration begins at 5:30 pm&nbsp\;with tournament play beginning at 6:00 pm in the Iris Festival Big Tent. $50 buy in gets you $1500 in chips. Increase your odds or get a second chance with your two available re-buy options ($25 per re-buy). $25 rebuy gets you an additional $1000 in chips.</div><div>&nbsp\;</div><div>Many great cash prizes are in store with the first place prize at $1\,250. (payable in visa cards). We hope to see you there!</div>
LOCATION:Big Tent Fun Center at the Keizer Station
UID:e.63.1949
SEQUENCE:3
DTSTAMP:20260422T091133Z
URL:http://www.cm.keizerchamber.com/events/details/iris-festival-texas-hold-em-tournament-05-13-2009-1949
END:VEVENT

END:VCALENDAR
