BEGIN:VCALENDAR
VERSION:2.0
PRODID:-//ChamberMaster//Event Calendar 2.0//EN
METHOD:PUBLISH
X-PUBLISHED-TTL:P3D
REFRESH-INTERVAL:P3D
CALSCALE:GREGORIAN
BEGIN:VEVENT
DTSTART:20090726T013500Z
DTEND:20090726T043000Z
X-MICROSOFT-CDO-ALLDAYEVENT:FALSE
SUMMARY:Keizer Community Night at Volcanoes Stadium
DESCRIPTION:The Salem-Keizer Volcanoes have created a series of Community Nights to help make Volcanoes Baseball even more attractive for residents of Salem\, Keizer\, and the surrounding communities! \nThe Volcanoes are rolling back the price for outfield general admission tickets to the prices when the Stadium opened 13 seasons ago to just $5.00 per seat! \nFans simply need to show proof of residency (driver's license\, utility bill\, etc.) then fans can purchase up to 4 outfield general admission tickets\, for 'your community night' at the special $5.00 per ticket stimulus price! \nYour town?s chamber of commerce will be able to promote your upcoming community events by having an information table. This would include a table on the concourse inside of the stadium. \n\nWe are also having a food drive for Keizer food bank that night and we need your help publicizing the event.\nThe more people that come to Keizer community night\, the more food will be donated.
X-ALT-DESC;FMTTYPE=text/html:The Salem-Keizer Volcanoes have created a series of Community Nights to help make Volcanoes Baseball even more attractive for residents of Salem\, Keizer\, and the surrounding communities! \nThe Volcanoes are rolling back the price for outfield general admission tickets to the prices when the Stadium opened 13 seasons ago to just $5.00 per seat! \nFans simply need to show proof of residency (driver's license\, utility bill\, etc.) then fans can purchase up to 4 outfield general admission tickets\, for 'your community night' at the special $5.00 per ticket stimulus price! \nYour town?s chamber of commerce will be able to promote your upcoming community events by having an information table. This would include a table on the concourse inside of the stadium. \n\nWe are also having a food drive for Keizer food bank that night and we need your help publicizing the event.\nThe more people that come to Keizer community night\, the more food will be donated.\n
LOCATION:Volcanoes Stadium
UID:e.63.2238
SEQUENCE:3
DTSTAMP:20260422T060112Z
URL:http://www.cm.keizerchamber.com/events/details/keizer-community-night-at-volcanoes-stadium-07-25-2009-2238
END:VEVENT

END:VCALENDAR
