BEGIN:VCALENDAR
VERSION:2.0
PRODID:-//ChamberMaster//Event Calendar 2.0//EN
METHOD:PUBLISH
X-PUBLISHED-TTL:P3D
REFRESH-INTERVAL:P3D
CALSCALE:GREGORIAN
BEGIN:VEVENT
DTSTART:20090726T010000Z
DTEND:20090726T033000Z
X-MICROSOFT-CDO-ALLDAYEVENT:FALSE
SUMMARY:Keizer Rotary Amphitheatre
DESCRIPTION:Concert at Keizer Rotary Amphitheatre featuring Stealhead. A family friendly event. $5 cost per person/ticket. Food and beverages will be available including beer and wine. Gates open at 5:00 pm\, tickets available for purchased at the Keizer Chamber of Commerce\, Steam Heat Coffeehouse & Keizertimes.
X-ALT-DESC;FMTTYPE=text/html:Concert at Keizer Rotary Amphitheatre featuring Stealhead. A family friendly event. $5 cost per person/ticket. Food and beverages will be available including beer and wine. Gates open at 5:00 pm\, tickets available for purchased at the Keizer Chamber of Commerce\, Steam Heat Coffeehouse & Keizertimes. 
LOCATION:Keizer Rotary Amphitheatre at Keizer Rapids Park
UID:e.63.2242
SEQUENCE:3
DTSTAMP:20260422T060011Z
URL:http://www.cm.keizerchamber.com/events/details/keizer-rotary-amphitheatre-07-25-2009-2242
END:VEVENT

END:VCALENDAR
