BEGIN:VCALENDAR
VERSION:2.0
PRODID:-//ChamberMaster//Event Calendar 2.0//EN
METHOD:PUBLISH
X-PUBLISHED-TTL:P3D
REFRESH-INTERVAL:P3D
CALSCALE:GREGORIAN
BEGIN:VEVENT
DTSTART:20091010T010000Z
DTEND:20091009T190000Z
X-MICROSOFT-CDO-ALLDAYEVENT:FALSE
SUMMARY:Keizer's Fall Classic Casino Night & Texas Hold'em Tournament
DESCRIPTION:Save the date and tell your friends! Plan for an evening of fun while fundraising for the Keizer Chamber of Commerce public benefit programs. Blackjack\, Bingo\, Silent Auction and a Texas Hold'em Tournament are what's in store. Everyone over 18 years of age are welcome. Price includes a heavy hors d'oeuvres buffet. A no-host bar is available. $20 for casino includes $1000 in scrip for Blackjack & Bingo. $50 Hold'em buy-in inlcudes $1500 in poker chips. Re-buys are available at $25 which gets you another $1000 in chips. Hold'em Tournament Prizes: Prepaid Gift Cards from $50 to $1000 Auction & Casino Night raffle prizes include: Framed Art\, Dinner Packages\, Sports Equipment\, Memorabilia\, Night Stays\, Limo Ride and More. Reserve your spot today. Sign up is easy through this invitation\, or stop by the Keizer Chamber of Commerce. You may also fax your sign up form to 503-393-1003 or mail to 980 Chemawa Rd NE Keizer. We hope to see you there!
X-ALT-DESC;FMTTYPE=text/html:<div>Save the date and tell your friends! Plan for an evening of fun while fundraising for the Keizer Chamber of Commerce public benefit programs. Blackjack\, Bingo\, Silent Auction and a Texas Hold'em Tournament are what's in store. Everyone over 18 years of age are welcome. Price includes a heavy hors d'oeuvres buffet. A no-host bar is available.</div><div>&nbsp\;</div><div>$20 for casino includes $1000 in scrip for Blackjack &amp\;&nbsp\;Bingo. $50&nbsp\;Hold'em buy-in inlcudes $1500 in poker chips. Re-buys are available at $25 which gets you another $1000 in chips.</div><div>&nbsp\;</div><div>Hold'em Tournament Prizes:&nbsp\;Prepaid Gift Cards from $50 to $1000</div><div>&nbsp\;</div><div>Auction &amp\;&nbsp\;Casino Night raffle prizes include: Framed Art\, Dinner Packages\, Sports Equipment\, Memorabilia\, Night Stays\, Limo Ride and More.</div><div>&nbsp\;</div><div>Reserve your spot today. Sign up is easy through this invitation\, or stop by the Keizer Chamber of Commerce. You may also fax your sign up form to 503-393-1003 or mail to 980 Chemawa Rd NE&nbsp\;Keizer. We hope to see you there!</div>
LOCATION:Keizer Renaissance Inn5188 Wittenberg LaneKeizer\, OR. 97303
UID:e.63.2266
SEQUENCE:3
DTSTAMP:20260422T013007Z
URL:http://www.cm.keizerchamber.com/events/details/keizer-s-fall-classic-casino-night-texas-hold-em-tournament-10-09-2009-2266
END:VEVENT

END:VCALENDAR
