BEGIN:VCALENDAR
VERSION:2.0
PRODID:-//ChamberMaster//Event Calendar 2.0//EN
METHOD:PUBLISH
X-PUBLISHED-TTL:P3D
REFRESH-INTERVAL:P3D
CALSCALE:GREGORIAN
BEGIN:VEVENT
DTSTART:20090828T223000Z
DTEND:20090829T030000Z
X-MICROSOFT-CDO-ALLDAYEVENT:FALSE
SUMMARY:Keizer Young Life Golf Tournament
DESCRIPTION:"Have fun and help Keizer Kids! Nine hole Golf Tournament includes BBQ. top team in each flight putt off for prizes\, fame and plaid jacket.
X-ALT-DESC;FMTTYPE=text/html:"Have fun and help Keizer Kids! Nine hole Golf Tournament includes BBQ. top team in each flight putt off for prizes\, fame and plaid jacket.\n
LOCATION:McNary Golf Club
UID:e.63.2252
SEQUENCE:3
DTSTAMP:20260422T041935Z
URL:http://www.cm.keizerchamber.com/events/details/keizer-young-life-golf-tournament-08-28-2009-2252
END:VEVENT

END:VCALENDAR
