BEGIN:VCALENDAR
VERSION:2.0
PRODID:-//ChamberMaster//Event Calendar 2.0//EN
METHOD:PUBLISH
X-PUBLISHED-TTL:P3D
REFRESH-INTERVAL:P3D
CALSCALE:GREGORIAN
BEGIN:VEVENT
DTSTART:20260514T220000Z
DTEND:20260515T040000Z
X-MICROSOFT-CDO-ALLDAYEVENT:FALSE
SUMMARY:KeizerFest Vendors/Exhibitors and Carnival
DESCRIPTION:KEIZERFEST 2026 IS BACK! \n\nPresented by SMI\n\nGet ready\, Keizer! The fun kicks off at Keizer Rapids Park and you're invited to be part of one of the community's favorite traditions!\n\n  Carnival rides? Check.\n\n  Delicious food trucks? Absolutely.\n\n   Unique vendors? Nearly 50 of them!\n\n  Live music all evening? You bet!\n\nBring your family\, meet up with friends\, and spend the evening soaking up great vibes\, tasty eats\, and local treasures. Whether you're hunting for something one-of-a-kind\, enjoying the entertainment\, or just here for the fun there's something for everyone at KeizerFEST!\n\n  Thursday\, May 14\, 2026\n\n  3:00 PM   9:00 PM\n\n  Keizer Rapids Park\n\n1900 Chemawa Rd N\n\n  FREE admission to the festival grounds!\n\nMark your calendar\, grab your crew\, and come celebrate everything that makes Keizer amazing. We'll see you there!
X-ALT-DESC;FMTTYPE=text/html:<p data-end="59" data-start="0"><span style="font-size:14px\;"><strong data-end="33" data-start="5">KEIZERFEST 2026 IS BACK!</strong>&nbsp\;</span><br data-end="41" data-start="38" />\n<em data-end="59" data-start="41">Presented by SMI</em></p>\n\n<p data-end="202" data-start="61">Get ready\, Keizer! The fun kicks off at <strong data-end="123" data-start="101">Keizer Rapids Park</strong> and you&rsquo\;re invited to be part of one of the community&rsquo\;s favorite traditions!</p>\n\n<p data-end="364" data-start="204">&#127905\; <strong data-end="233" data-start="207">Carnival rides? Check.</strong><br data-end="236" data-start="233" />\n&#127828\; <strong data-end="277" data-start="239">Delicious food trucks? Absolutely.</strong><br data-end="280" data-start="277" />\n&#128717\;&#65039\; <strong data-end="322" data-start="284">Unique vendors? Nearly 50 of them!</strong><br data-end="325" data-start="322" />\n&#127926\; <strong data-end="364" data-start="328">Live music all evening? You bet!</strong></p>\n\n<p data-end="636" data-start="366">Bring your family\, meet up with friends\, and spend the evening soaking up great vibes\, tasty eats\, and local treasures. Whether you&#39\;re hunting for something one-of-a-kind\, enjoying the entertainment\, or just here for the fun&mdash\;there&rsquo\;s something for everyone at KeizerFEST!</p>\n\n<p data-end="743" data-start="638">&#128197\; <strong data-end="667" data-start="641">Thursday\, May 14\, 2026</strong><br data-end="670" data-start="667" />\n&#9200\; <strong data-end="693" data-start="672">3:00 PM &ndash\; 9:00 PM</strong><br data-end="696" data-start="693" />\n&#128205\; <strong data-end="721" data-start="699">Keizer Rapids Park</strong><br data-end="724" data-start="721" />\n1900 Chemawa Rd N</p>\n\n<p data-end="790" data-start="745">&#10024\; <strong data-end="790" data-start="747">FREE admission to the festival grounds!</strong></p>\n\n<p data-end="908" data-is-last-node="" data-is-only-node="" data-start="792">Mark your calendar\, grab your crew\, and come celebrate everything that makes Keizer amazing. We&rsquo\;ll see you there!&nbsp\;</p>\n<br />\n&nbsp\;
LOCATION:Keizer Rapids Park 1900 Chemawa Rd N Keizer\, Oregon
UID:e.63.32729
SEQUENCE:3
DTSTAMP:20260422T213854Z
URL:http://www.cm.keizerchamber.com/events/details/keizerfest-vendors-exhibitors-and-carnival-32729
END:VEVENT

END:VCALENDAR
