BEGIN:VCALENDAR
VERSION:2.0
PRODID:-//ChamberMaster//Event Calendar 2.0//EN
METHOD:PUBLISH
X-PUBLISHED-TTL:P3D
REFRESH-INTERVAL:P3D
CALSCALE:GREGORIAN
BEGIN:VEVENT
DTSTART:20090716T003000Z
DTEND:20090716T023000Z
X-MICROSOFT-CDO-ALLDAYEVENT:FALSE
SUMMARY:KNOW After Hours
DESCRIPTION:KNOW Keizer's Network of Women After Hours. Join us at Keizer Renaissance Inn on Wednesday July 15th from 5:30 pm - 7:30 pm for a get together with the gals. Appertizers are provided by Sheryl Resner from Edward Jones & Sherrie Gottfried from Keizer Renaissance Inn. Have some fun and get to know each other just a little bit better. This is a casual affair so kick back and have a glass of wine! We hope to see you there.
X-ALT-DESC;FMTTYPE=text/html:<div>KNOW&nbsp\;Keizer's Network of Women After Hours.</div><div>&nbsp\;</div><div>Join us at Keizer Renaissance Inn on Wednesday July 15th from 5:30 pm - 7:30 pm for a get together with the gals.</div><div>&nbsp\;</div><div>Appertizers are provided by Sheryl Resner from Edward Jones &amp\;&nbsp\;Sherrie Gottfried from Keizer Renaissance Inn. Have some fun and get to know each other just a little bit better. This is a casual affair so kick back and have a glass of wine!</div><div>&nbsp\;</div><div>We hope to see you there.</div>
LOCATION:Keizer Renaissance Inn5188 Wittenberg LaneKeizer\, Oregon
UID:e.63.1982
SEQUENCE:3
DTSTAMP:20260422T055935Z
URL:http://www.cm.keizerchamber.com/events/details/know-after-hours-07-15-2009-1982
END:VEVENT

END:VCALENDAR
