BEGIN:VCALENDAR
VERSION:2.0
PRODID:-//ChamberMaster//Event Calendar 2.0//EN
METHOD:PUBLISH
X-PUBLISHED-TTL:P3D
REFRESH-INTERVAL:P3D
CALSCALE:GREGORIAN
BEGIN:VEVENT
DTSTART:20091216T013000Z
DTEND:20091216T050000Z
X-MICROSOFT-CDO-ALLDAYEVENT:FALSE
SUMMARY:KNOW After Hours Event
DESCRIPTION:Join the KNOW ladies for an evening of fun at After Hours. The event will be held at the home of Leah Stevens\, located at: 8090 Quinaby Acres Ln NE (just north of Keizer). There will be a gift exchange so bring your wrapped gift in value of $10-$15 to participate. $5 cover charge gets you in for some fun\, food and friends. We hope to see you there. Call the Chamber with any questions.
X-ALT-DESC;FMTTYPE=text/html:<div>Join the KNOW ladies for an evening of fun at After&nbsp\;Hours.</div><div>&nbsp\;</div><div>The event will be held at the home of Leah Stevens\, located at: 8090 Quinaby Acres Ln NE (just north of Keizer). There will be a gift exchange so bring your wrapped gift in value of $10-$15 to participate. $5 cover charge gets you in for some fun\, food and friends.</div><div>&nbsp\;</div><div>We hope to see you there. Call the Chamber with any questions.</div>
LOCATION:8090 Quinaby Acres Ln NEHome of Leah Stevens
UID:e.63.2286
SEQUENCE:3
DTSTAMP:20260421T222826Z
URL:http://www.cm.keizerchamber.com/events/details/know-after-hours-event-12-15-2009-2286
END:VEVENT

END:VCALENDAR
