BEGIN:VCALENDAR
VERSION:2.0
PRODID:-//ChamberMaster//Event Calendar 2.0//EN
METHOD:PUBLISH
X-PUBLISHED-TTL:P3D
REFRESH-INTERVAL:P3D
CALSCALE:GREGORIAN
BEGIN:VEVENT
DTSTART:20100126T200000Z
DTEND:20100126T210000Z
X-MICROSOFT-CDO-ALLDAYEVENT:FALSE
SUMMARY:KNOW Keizer's Network of Women
DESCRIPTION:KNOW Keizer's Network of Women 2010 Kick-Off Join us for our exciting first lunch meeting of the year\, at the Keizer Renaissance Inn. New and exciting changes will take place\, get in on all the action by attending lunch. Fun networking opportunities\, new ideas such as spotlighting your business\, ways to get involved with the giving basket program and much more.New chair and co chair Samantha Demchak & Leah Stevens have a lot in store for 2010. Please join us and bring a friend!Know is a group of professional women who are Keizer Chamber Members and are committed to increasing their business & personal success by means of networking amongst each other & learning from others expertise. Please RSVP to paula@keizerchamber.com
X-ALT-DESC;FMTTYPE=text/html:<p align="left"><strong>KNOW </strong><em>Keizer&rsquo\;s Network of Women 2010 Kick-Off </em></p><p align="left">Join us for our&nbsp\;exciting first lunch meeting of the year\, at the Keizer Renaissance Inn.&nbsp\;</p><p align="left">New and exciting changes will take place\, get in on all the action by attending lunch. Fun networking opportunities\, new ideas such as spotlighting your business\, ways to get involved with the giving basket program and much more.</p><p align="left">New chair and co chair Samantha Demchak &amp\;&nbsp\;Leah Stevens have a lot in store for 2010. Please join us and bring a friend!</p><p align="left">Know is a group of professional women who are Keizer Chamber Members and are committed to increasing their business &amp\; personal success by means of networking amongst each other &amp\; learning from others expertise.&nbsp\;</p><p align="left">Please RSVP to <a href="mailto:paula@keizerchamber.com">paula@keizerchamber.com</a></p>
LOCATION:Keizer Renaissance Inn5188 Wittenberg LaneKeizer
UID:e.63.2292
SEQUENCE:3
DTSTAMP:20260421T211625Z
URL:http://www.cm.keizerchamber.com/events/details/know-keizer-s-network-of-women-01-26-2010-2292
END:VEVENT

END:VCALENDAR
