BEGIN:VCALENDAR
VERSION:2.0
PRODID:-//ChamberMaster//Event Calendar 2.0//EN
METHOD:PUBLISH
X-PUBLISHED-TTL:P3D
REFRESH-INTERVAL:P3D
CALSCALE:GREGORIAN
BEGIN:VEVENT
DTSTART:20100223T200000Z
DTEND:20100223T210000Z
X-MICROSOFT-CDO-ALLDAYEVENT:FALSE
SUMMARY:KNOW Keizer's Network of Women
DESCRIPTION:KNOW Keizer's Network of Women LuncheonJoin the women of KNOW for a fabulous lunch and some valuable networking at the Keizer Renaissance Inn. Know is a group of professional women who are Keizer Chamber Members and are committed to increasing their business & personal success by means of networking amongst each other & learning from others expertise. Please RSVP to paula@keizerchamber.com and bring a friend!
X-ALT-DESC;FMTTYPE=text/html:<p align="left"><em><strong>KNOW</strong></em><strong> </strong><em>Keizer&rsquo\;s Network of Women Luncheon</em></p><p align="left">Join the women of KNOW for a fabulous lunch and some valuable networking at the Keizer Renaissance Inn.&nbsp\;</p><p align="left">Know is a group of professional women who are Keizer Chamber Members and are committed to increasing their business &amp\; personal success by means of networking amongst each other &amp\; learning from others expertise.&nbsp\;</p><p align="left">Please RSVP to <a href="mailto:paula@keizerchamber.com">paula@keizerchamber.com</a>&nbsp\;and bring a friend!</p>
LOCATION:Keizer Renaissance Inn5188 Wittenberg LaneKeizer
UID:e.63.2300
SEQUENCE:3
DTSTAMP:20260421T193747Z
URL:http://www.cm.keizerchamber.com/events/details/know-keizer-s-network-of-women-02-23-2010-2300
END:VEVENT

END:VCALENDAR
