BEGIN:VCALENDAR
VERSION:2.0
PRODID:-//ChamberMaster//Event Calendar 2.0//EN
METHOD:PUBLISH
X-PUBLISHED-TTL:P3D
REFRESH-INTERVAL:P3D
CALSCALE:GREGORIAN
BEGIN:VEVENT
DTSTART:20100416T190000Z
DTEND:20100416T200000Z
X-MICROSOFT-CDO-ALLDAYEVENT:FALSE
SUMMARY:Marion County Home Rule Charter Debate
DESCRIPTION:Measure 24-292\, Proposed Marion County Charter DebateBrown Bag LunchProponent - Rick StuckyOpponent - Janet CarlsonModerator - Bruce Anderson   Presented by Keizer Chamber of Commerce EDGA (Economic Development & Governement Affairs) Committee
X-ALT-DESC;FMTTYPE=text/html:<div style="text-align: center"><span style="color: #3366ff"><span style="font-size: medium">Measure 24-292\, Proposed Marion County Charter&nbsp\;Debate</span></span></div><div style="text-align: center"><span style="color: #3366ff"><span style="font-size: medium">Brown Bag Lunch</span></span></div><hr /><div><span style="font-size: medium">Proponent&nbsp\;-&nbsp\;Rick&nbsp\;Stucky</span></div><div><span style="font-size: medium">Opponent - Janet Carlson</span></div><div><span style="font-size: medium">Moderator - Bruce Anderson&nbsp\;</span><span style="font-size: medium">&nbsp\;</span></div><div>&nbsp\;</div><div><span style="font-size: larger"><span style=""><span style=""><span style="">Presented by Keizer Chamber of Commerce EDGA (Economic Development &amp\; Governement Affairs) Committee </span></span></span></span></div>
LOCATION:Keizer Heritage Community Center980 Chemawa Rd NEKeizer\, Or 97303
UID:e.63.2326
SEQUENCE:3
DTSTAMP:20260421T164113Z
URL:http://www.cm.keizerchamber.com/events/details/marion-county-home-rule-charter-debate-04-16-2010-2326
END:VEVENT

END:VCALENDAR
