BEGIN:VCALENDAR
VERSION:2.0
PRODID:-//ChamberMaster//Event Calendar 2.0//EN
METHOD:PUBLISH
X-PUBLISHED-TTL:P3D
REFRESH-INTERVAL:P3D
CALSCALE:GREGORIAN
BEGIN:VEVENT
DTSTART;VALUE=DATE:20090808
DTEND;VALUE=DATE:20090809
TRANSP:TRANSPARENT
X-MICROSOFT-CDO-ALLDAYEVENT:TRUE
SUMMARY:Massage at the Riverfair
DESCRIPTION:Chair and foot massage available at the Riverfair by Tessa Moore LMT
X-ALT-DESC;FMTTYPE=text/html:Chair and foot massage available at the Riverfair by Tessa Moore LMT
LOCATION:Keizer Rapids Park
UID:e.63.2254
SEQUENCE:3
DTSTAMP:20260422T041903Z
URL:http://www.cm.keizerchamber.com/events/details/massage-at-the-riverfair-08-08-2009-2254
END:VEVENT

END:VCALENDAR
