BEGIN:VCALENDAR
VERSION:2.0
PRODID:-//ChamberMaster//Event Calendar 2.0//EN
METHOD:PUBLISH
X-PUBLISHED-TTL:P3D
REFRESH-INTERVAL:P3D
CALSCALE:GREGORIAN
BEGIN:VEVENT
DTSTART:20100522T164000Z
DTEND:20100522T173000Z
X-MICROSOFT-CDO-ALLDAYEVENT:FALSE
SUMMARY:Mayor's Pet Parade Presented by Copper Creek Mercantile
DESCRIPTION:Mayor's Pet Parade Presented by Copper Creek Mercantile. Join Keizer Mayor Lore Christopher and her pet for a fun filled stroll down River Road. This is a family friendly event so bring your pet and get ready for some fun. The Pet Parade is a pre-Keizer Iris Festival Parade event. It starts at Copper Creek Mercantile on River Road N and ends at the Safeway parking lot. Pre Registration cost is $5\, or $6 the day of the race. Proceeds help K.A.R.E.S Keizer Animal Rescue Emergency Shelter. We hope to see you there!
X-ALT-DESC;FMTTYPE=text/html:<div>Mayor's Pet Parade Presented by Copper Creek Mercantile.</div><div>&nbsp\;</div><div>Join Keizer Mayor Lore Christopher and her pet for a fun filled stroll down River Road. This is a&nbsp\;family friendly event so bring your pet and get ready for some fun. The Pet Parade is a pre-Keizer Iris Festival Parade event. It starts at Copper Creek Mercantile on River Road N and ends at the Safeway parking lot.</div><div>&nbsp\;</div><div>Pre Registration cost is $5\, or $6 the day of the race. Proceeds help K.A.R.E.S Keizer Animal Rescue Emergency Shelter.</div><div>&nbsp\;</div><div>We hope to see you there!</div>
LOCATION:Copper Creek Mercantile4415 River Road NKeizer\, Oregon
UID:e.63.2332
SEQUENCE:3
DTSTAMP:20260421T151850Z
URL:http://www.cm.keizerchamber.com/events/details/mayor-s-pet-parade-presented-by-copper-creek-mercantile-05-22-2010-2332
END:VEVENT

END:VCALENDAR
