BEGIN:VCALENDAR
VERSION:2.0
PRODID:-//ChamberMaster//Event Calendar 2.0//EN
METHOD:PUBLISH
X-PUBLISHED-TTL:P3D
REFRESH-INTERVAL:P3D
CALSCALE:GREGORIAN
BEGIN:VEVENT
DTSTART:20100506T143000Z
DTEND:20100506T160000Z
X-MICROSOFT-CDO-ALLDAYEVENT:FALSE
SUMMARY:Mayor's Prayer Breakfast presented by Select Impressions
DESCRIPTION:Mayor's Prayer Breakfast Sponsored by Select Impressions. Please join us on May 6th from 7:30 am - 9:00 am for breakfast in celebration of the 12th annual National Day of Prayer. This event is non-denominational\, all are welcome to participate. Our speaker is Cathy Clark\, Keizer City Council member. Breakfast cost is $15 and is required prior to the function. You may register through this invitation and pay online or send your check or credit card information to the Keizer Chamber of Commerce. For more information call 503-393-9111.
X-ALT-DESC;FMTTYPE=text/html:<div>Mayor&rsquo\;s Prayer Breakfast Sponsored by Select Impressions.</div><div>&nbsp\;</div><div>Please join us on May 6th from 7:30 am - 9:00 am for breakfast in&nbsp\;celebration of the 12th annual National Day of Prayer. This event is non-denominational\, all are welcome to participate. Our speaker is Cathy Clark\, Keizer City Council member.</div><div>&nbsp\;</div><div>Breakfast cost is $15 and is required prior to the function. You may register through this invitation and pay online or send your check or credit card information to the Keizer Chamber of Commerce.</div><div>&nbsp\;</div><div>For more information call 503-393-9111.</div>
LOCATION:City of Keizer\, City Hall930 Chemawa Rd NEKeizer\, Oregon
UID:e.63.2328
SEQUENCE:3
DTSTAMP:20260421T150644Z
URL:http://www.cm.keizerchamber.com/events/details/mayor-s-prayer-breakfast-presented-by-select-impressions-05-06-2010-2328
END:VEVENT

END:VCALENDAR
