BEGIN:VCALENDAR
VERSION:2.0
PRODID:-//ChamberMaster//Event Calendar 2.0//EN
METHOD:PUBLISH
X-PUBLISHED-TTL:P3D
REFRESH-INTERVAL:P3D
CALSCALE:GREGORIAN
BEGIN:VEVENT
DTSTART:20100330T163000Z
DTEND:20100330T173000Z
X-MICROSOFT-CDO-ALLDAYEVENT:FALSE
SUMMARY:New Member & Get Acquainted Coffee
DESCRIPTION:New members and "old" members desiring to get acquainted with Chamber activities and benefits are welcome to attend.
X-ALT-DESC;FMTTYPE=text/html:<div>New members and &quot\;old&quot\; members desiring to get acquainted with Chamber activities and benefits are welcome to attend.</div>
LOCATION:Keizer Chamber office: 980 Chemawa Rd NE Keizer
UID:e.63.2310
SEQUENCE:3
DTSTAMP:20260421T182521Z
URL:http://www.cm.keizerchamber.com/events/details/new-member-get-acquainted-coffee-03-30-2010-2310
END:VEVENT

END:VCALENDAR
