BEGIN:VCALENDAR
VERSION:2.0
PRODID:-//ChamberMaster//Event Calendar 2.0//EN
METHOD:PUBLISH
X-PUBLISHED-TTL:P3D
REFRESH-INTERVAL:P3D
CALSCALE:GREGORIAN
BEGIN:VEVENT
DTSTART:20091028T043000Z
DTEND:20091028T053000Z
X-MICROSOFT-CDO-ALLDAYEVENT:FALSE
SUMMARY:New Member & Get Acquainted Coffee
DESCRIPTION:New members and "old" members desiring to get acquainted with Chamber activities and benefits are welcome to attend.
X-ALT-DESC;FMTTYPE=text/html:<div>New members and &quot\;old&quot\; members desiring to get acquainted with Chamber activities and benefits are welcome to attend.</div>
LOCATION:Coffee Paradigm 4765 River Rd N
UID:e.63.2269
SEQUENCE:3
DTSTAMP:20260422T012845Z
URL:http://www.cm.keizerchamber.com/events/details/new-member-get-acquainted-coffee-10-27-2009-2269
END:VEVENT

END:VCALENDAR
