BEGIN:VCALENDAR
VERSION:2.0
PRODID:-//ChamberMaster//Event Calendar 2.0//EN
METHOD:PUBLISH
X-PUBLISHED-TTL:P3D
REFRESH-INTERVAL:P3D
CALSCALE:GREGORIAN
BEGIN:VEVENT
DTSTART:20091125T053000Z
DTEND:20091125T063000Z
X-MICROSOFT-CDO-ALLDAYEVENT:FALSE
SUMMARY:New Member & Get Acquainted Coffee
DESCRIPTION:New members and "old" members desiring to get acquainted with Chamber activities and benefits are welcome to attend.
X-ALT-DESC;FMTTYPE=text/html:<div>New members and &quot\;old&quot\; members desiring to get acquainted with Chamber activities and benefits are welcome to attend.</div>
LOCATION:Coffee Paradigm 4765 River Rd N
UID:e.63.2280
SEQUENCE:3
DTSTAMP:20260422T001913Z
URL:http://www.cm.keizerchamber.com/events/details/new-member-get-acquainted-coffee-11-24-2009-2280
END:VEVENT

END:VCALENDAR
