BEGIN:VCALENDAR
VERSION:2.0
PRODID:-//ChamberMaster//Event Calendar 2.0//EN
METHOD:PUBLISH
X-PUBLISHED-TTL:P3D
REFRESH-INTERVAL:P3D
CALSCALE:GREGORIAN
BEGIN:VEVENT
DTSTART:20090826T043000Z
DTEND:20090826T053000Z
X-MICROSOFT-CDO-ALLDAYEVENT:FALSE
SUMMARY:New Member & Get Reacquainted Coffee
DESCRIPTION:New members and "old" members desiring to get reacquainted with Chamber activities and benefits are welcome to attend.
X-ALT-DESC;FMTTYPE=text/html:<div>New members and &quot\;old&quot\; members desiring to get reacquainted with Chamber activities and benefits are welcome to attend.</div>
LOCATION:Coffee Paradigm 4765 River Rd N
UID:e.63.2255
SEQUENCE:3
DTSTAMP:20260422T041938Z
URL:http://www.cm.keizerchamber.com/events/details/new-member-get-reacquainted-coffee-08-25-2009-2255
END:VEVENT

END:VCALENDAR
